BEGIN:VCALENDAR
VERSION:2.0
PRODID:-//Cajun Lake Lodge - ECPv6.15.20//NONSGML v1.0//EN
CALSCALE:GREGORIAN
METHOD:PUBLISH
X-WR-CALNAME:Cajun Lake Lodge
X-ORIGINAL-URL:https://cajunlakelodge.com
X-WR-CALDESC:Events for Cajun Lake Lodge
REFRESH-INTERVAL;VALUE=DURATION:PT1H
X-Robots-Tag:noindex
X-PUBLISHED-TTL:PT1H
BEGIN:VTIMEZONE
TZID:UTC
BEGIN:STANDARD
TZOFFSETFROM:+0000
TZOFFSETTO:+0000
TZNAME:UTC
DTSTART:20210101T000000
END:STANDARD
END:VTIMEZONE
BEGIN:VEVENT
DTSTART;TZID=UTC:20221103T150000
DTEND;TZID=UTC:20221105T110000
DTSTAMP:20260421T095414
CREATED:20220519T203953Z
LAST-MODIFIED:20220519T203953Z
UID:8860-1667487600-1667646000@cajunlakelodge.com
SUMMARY:Patton lodging
DESCRIPTION:
URL:https://cajunlakelodge.com/event/patton-lodging-2/
CATEGORIES:Lodging Booked
END:VEVENT
BEGIN:VEVENT
DTSTART;TZID=UTC:20221111T080000
DTEND;TZID=UTC:20221113T170000
DTSTAMP:20260421T095414
CREATED:20221103T212514Z
LAST-MODIFIED:20221103T212514Z
UID:8955-1668153600-1668358800@cajunlakelodge.com
SUMMARY:Personal lodging
DESCRIPTION:
URL:https://cajunlakelodge.com/event/personal-lodging/
CATEGORIES:Event Booked,Lodging Booked
END:VEVENT
BEGIN:VEVENT
DTSTART;TZID=UTC:20221118T150000
DTEND;TZID=UTC:20221121T110000
DTSTAMP:20260421T095414
CREATED:20220519T204059Z
LAST-MODIFIED:20220519T204059Z
UID:8861-1668783600-1669028400@cajunlakelodge.com
SUMMARY:Chumley lodging
DESCRIPTION:
URL:https://cajunlakelodge.com/event/chumley-lodging/
CATEGORIES:Lodging Booked
END:VEVENT
BEGIN:VEVENT
DTSTART;TZID=UTC:20221124T080000
DTEND;TZID=UTC:20221127T170000
DTSTAMP:20260421T095414
CREATED:20221103T212559Z
LAST-MODIFIED:20221103T212559Z
UID:8956-1669276800-1669568400@cajunlakelodge.com
SUMMARY:Bogle Lodging
DESCRIPTION:
URL:https://cajunlakelodge.com/event/bogle-lodging/
CATEGORIES:Lodging Booked
END:VEVENT
END:VCALENDAR